BEGIN:VCALENDAR
VERSION:2.0
PRODID:-//hacksw/handcal//NONSGML v1.0//EN
BEGIN:VEVENT
DTSTAMP:20260502T070000Z
DTSTART:20260502T070000Z
DTEND:20260502T110000Z
SUMMARY:Infostand am Böttcher-Rondell
END:VEVENT
BEGIN:VEVENT
DTSTAMP:20260509T070000Z
DTSTART:20260509T070000Z
DTEND:20260509T110000Z
SUMMARY:Infostand am Böttcher-Rondell
END:VEVENT
BEGIN:VEVENT
DTSTAMP:20260515T080000Z
DTSTART:20260515T080000Z
DTEND:20260515T140000Z
SUMMARY:Infostand beim E Center Frauen
END:VEVENT
BEGIN:VEVENT
DTSTAMP:20260516T070000Z
DTSTART:20260516T070000Z
DTEND:20260516T110000Z
SUMMARY:Infostand am Böttcher-Rondell
END:VEVENT
BEGIN:VEVENT
DTSTAMP:20260523T070000Z
DTSTART:20260523T070000Z
DTEND:20260523T110000Z
SUMMARY:Infostand am Böttcher-Rondell
END:VEVENT
BEGIN:VEVENT
DTSTAMP:20260529T080000Z
DTSTART:20260529T080000Z
DTEND:20260529T140000Z
SUMMARY:Infostand beim E Center Frauen
END:VEVENT
BEGIN:VEVENT
DTSTAMP:20260530T070000Z
DTSTART:20260530T070000Z
DTEND:20260530T110000Z
SUMMARY:Infostand am Böttcher-Rondell
END:VEVENT
BEGIN:VEVENT
DTSTAMP:20260606T070000Z
DTSTART:20260606T070000Z
DTEND:20260606T110000Z
SUMMARY:Infostand am Böttcher-Rondell
END:VEVENT
END:VCALENDAR
