BEGIN:VCALENDAR
VERSION:2.0
PRODID:-//hacksw/handcal//NONSGML v1.0//EN
BEGIN:VEVENT
DTSTAMP:20260515T080000Z
DTSTART:20260515T080000Z
DTEND:20260515T140000Z
SUMMARY:Infostand beim E Center Frauen
END:VEVENT
END:VCALENDAR
